BEGIN:VCALENDAR
VERSION:2.0
PRODID:#https://zufikon.ch/#29383#33742
CALSCALE:GREGORIAN
METHOD:PUBLISH
BEGIN:VEVENT
SUMMARY:Informationsveranstaltung Schulraumerweiterung
UID:TXpNM05EST0=
STATUS:CONFIRMED
DTSTART:20260427T193000
DTEND:20260427T203000
DTSTAMP:20260409T142626
LOCATION:Mehrzweckhalle A
URL:https://zufikon.ch/src/pdf_ka_flyerinfoveranstaltung_260409.pdf
DESCRIPTION:
END:VEVENT
END:VCALENDAR